BEGIN:VCALENDAR
VERSION:2.0
PRODID:-//eventon.com NONSGML v1.0//EN
CALSCALE:GREGORIAN
METHOD:PUBLISH
BEGIN:VEVENT
UID:69e888a340fa7
DTSTAMP:20260422T083651Z
DTSTART:20250830T070000Z
DTEND:20250830T110000Z
LOCATION:Busbahnhof Monheim &amp; EDEKA Geschwister-Scholl-Straße in Baumberg
SUMMARY:Infostand Kommunalwahl
DESCRIPTION:Im Rahmen der Kommunalwahl ist die SPD Monheim mit Infoständen
  in Baumberg bei EDEKA an der Geschwister-Scholl-Straße und am Busbahnhof 
 in Monheim präsent. Kommen Sie gern vorbei – wir freuen uns auf gute Ges
 präche und den Austausch mit Ihnen!\nhttps://www.spd-monheim.de/events/inf
 ostand-kommunalwahl-4/
URL:https://www.spd-monheim.de/events/infostand-kommunalwahl-4/
END:VEVENT
END:VCALENDAR