BEGIN:VCALENDAR
VERSION:2.0
PRODID:-//eventon.com NONSGML v1.0//EN
CALSCALE:GREGORIAN
METHOD:PUBLISH
BEGIN:VEVENT
UID:69e88a502c379
DTSTAMP:20260422T084400Z
DTSTART:20250808T140000Z
DTEND:20250808T160000Z
LOCATION:Geschwister-Scholl-Straße am Eingang EDEKA
SUMMARY:Auf ein Wort
DESCRIPTION:Der erfolgreiche Bürgertreff der SPD-Kandidaten für die Wahl 
 in den Stadtrat im September wird fortgesetzt. Diesmal laden die Kandidatin
 nen Alexandra Zabrodzki\,  Antje Obertreis und Roland Gunia zum Bürgertref
 f ‚Auf ein Wort‘ am 8.8.2025 von 16 bis 18 Uhr an der Geschwister-Schol
 l-Straße am Eingang EDEKA in Baumberg ein. Dort können sich[..]\nhttps://
 www.spd-monheim.de/events/auf-ein-wort-copy-2/
URL:https://www.spd-monheim.de/events/auf-ein-wort-copy-2/
END:VEVENT
END:VCALENDAR