BEGIN:VCALENDAR
VERSION:2.0
PRODID:-//eventon.com NONSGML v1.0//EN
CALSCALE:GREGORIAN
METHOD:PUBLISH
BEGIN:VEVENT
UID:69e9da7cc98f0
DTSTAMP:20260423T083820Z
DTSTART:20250830T120000Z
DTEND:20250830T160000Z
LOCATION:Brandenburger Allee
SUMMARY:Sauberes Berliner Viertel
DESCRIPTION:Sauberes Berliner Viertel am 30. August 2025 Am Samstag\,  den 
 30. August 2025 geht es um 14 Uhr los an der Brandenburger Allee – wir pa
 cken im Berliner Viertel gemeinsam an und räumen auf. Ben Kenzler kritisie
 rt\,  dass die Stadtverwaltung sich zu wenig für die Sperrmüllentsorgung 
 im Berliner Viertel einsetzt.[..]\nhttps://www.spd-monheim.de/events/sauber
 es-berliner-viertel-30-august-2025/
URL:https://www.spd-monheim.de/events/sauberes-berliner-viertel-30-august-2025/
END:VEVENT
END:VCALENDAR