BEGIN:VCALENDAR
VERSION:2.0
PRODID:-//eventon.com NONSGML v1.0//EN
CALSCALE:GREGORIAN
METHOD:PUBLISH
BEGIN:VEVENT
UID:69e89b5183df1
DTSTAMP:20260422T095633Z
DTSTART:20240524T173000Z
DTEND:20240524T235900Z
LOCATION:Bürgerhaus Baumberg Humboldtstraße 8
SUMMARY:Sabrina Proschmann stellt sich vor
DESCRIPTION:Am 24. Mai 2024 um 17.30 Uhr stellt sich die SPD-Kandidatin fü
 r die Europa-Wahl\,  Dr. Sabrina Proschmann\,  den Monheimerinnen und Monhe
 imern vor. Im Bürgerhaus Baumberg\,  Humboldtstr. 8\,  lädt Proschmann zu
  einem persönlichen Kennenlernen ein. Sie wird den Anwesenden ihre Beweggr
 ünden für die Kandidatur darlegen und alle dabei entstehenden Fragen bean
 tworten.[..]\nhttps://www.spd-monheim.de/events/sabrina-proschmann-stellt-s
 ich-vor/
URL:https://www.spd-monheim.de/events/sabrina-proschmann-stellt-sich-vor/
END:VEVENT
END:VCALENDAR