BEGIN:VCALENDAR
VERSION:2.0
PRODID:-//eventon.com NONSGML v1.0//EN
CALSCALE:GREGORIAN
METHOD:PUBLISH
BEGIN:VEVENT
UID:69e9da7cd85ec
DTSTAMP:20260423T083820Z
DTSTART:20240319T143000Z
DTEND:20240319T235900Z
LOCATION:AWO Gertrud-Borkott Haus Wiener-NeustÃ¤dter-StraÃŸe 176
SUMMARY:Kurt Schumacher - Adenauers Gegenspieler
DESCRIPTION:Es ist uns gelungen\,  einen Referenten zu gewinnen\,  der in e
 inem spannenden Vortrag Ã¼ber das Leben und Wirken von Kurt SchumacherÂ  re
 ferieren wird. Kurt Schumacher &#8211; Adenauers Gegenspieler &#8211; gradl
 inig und unbeugsam Referent: Christian Denstorff Termin: Dienstag\,  19. MÃ
 ¤rz 2024 Beginn: 14.30 Uhr Wo: Gertrud Borkott Haus\,  AWO-Seniorenbegegnun
 gsstÃ¤tte Baumberg\,  Wiener[..]\nhttps://www.spd-monheim.de/events/kurt-sc
 humacher-adenauers-gegenspieler/
URL:https://www.spd-monheim.de/events/kurt-schumacher-adenauers-gegenspieler/
END:VEVENT
END:VCALENDAR