BEGIN:VCALENDAR
VERSION:2.0
PRODID:-//eventon.com NONSGML v1.0//EN
CALSCALE:GREGORIAN
METHOD:PUBLISH
BEGIN:VEVENT
UID:69e89b9e0d50d
DTSTAMP:20260422T095750Z
DTSTART:20230819T130000Z
DTEND:20230819T160000Z
LOCATION:
SUMMARY:Nachbarschaftstreff
DESCRIPTION:Die Sozialdemokraten laden am Samstag\,  19. August erstmalig z
 u einem Nachbarschafts-Treff an der Europa-Allee in Baumberg ein. Auf dem P
 arkplatz der Sportanlage „Am Waldbeerenberg“ haben insbesondere die Bew
 ohner der an der Europa-Allee in den letzten Jahren neu entstandenen Wohnq
 uartieren die Gelegenheit von 15:00 bis 18:00 Uhr sich bei Kaffee\,  Kuche
 n und alkoholfreien[..]\nhttps://www.spd-monheim.de/events/nachbarschaftstr
 eff/
URL:https://www.spd-monheim.de/events/nachbarschaftstreff/
END:VEVENT
END:VCALENDAR