BEGIN:VCALENDAR
VERSION:2.0
PRODID:-//eventon.com NONSGML v1.0//EN
CALSCALE:GREGORIAN
METHOD:PUBLISH
BEGIN:VEVENT
UID:69e9ef71b990b
DTSTAMP:20260423T100745Z
DTSTART:20230618T090000Z
DTEND:20230618T160000Z
LOCATION:
SUMMARY:Stadtfest
DESCRIPTION:Das diesjährige Stadtfest steht unter dem Motto &#8222;Gans wu
 ndervoll&#8220;. Das nimmt auch die SPD Monheim am Rhein zum Anlass für ei
 nen großen Erlebnisstand mit Kinderspielen\,  Popcorn\,  Informationen zu 
 aktuellen lokalpolitischen Themen und jeder Menge Spiel und Spaß. Sie find
 en uns am Sonntag\,  den 18.06.2022 von 11:00 &#8211; 18:00 Uhr auf[..]\nht
 tps://www.spd-monheim.de/events/stadtfest-2/
URL:https://www.spd-monheim.de/events/stadtfest-2/
END:VEVENT
END:VCALENDAR