BEGIN:VCALENDAR
VERSION:2.0
PRODID:-//eventon.com NONSGML v1.0//EN
CALSCALE:GREGORIAN
METHOD:PUBLISH
BEGIN:VEVENT
UID:69e89d158f9e3
DTSTAMP:20260422T100405Z
DTSTART:20230308T074500Z
DTEND:20230308T120000Z
LOCATION:
SUMMARY:Landtagsbesuch
DESCRIPTION:Am 8. März werden alle interessierten Monheimerinnen und Monhe
 imer zu einem Frühstück im Landtag erwartet. Weiter stehen an: Informatio
 nen\,  Teilnahme an einer Plenarsitzung und ein Gespräch mit der Ratinger 
 Abgeordneten Elisabeth Müller-Witt. Fahrtkosten müssen selber getragen we
 rden\,  Programmende ist für 13.00 Uhr geplant. Anmeldungen sind ab sofort
  möglich unter der[..]\nhttps://www.spd-monheim.de/events/landtagsbesuch/
URL:https://www.spd-monheim.de/events/landtagsbesuch/
END:VEVENT
END:VCALENDAR