BEGIN:VCALENDAR
VERSION:2.0
PRODID:-//eventon.com NONSGML v1.0//EN
CALSCALE:GREGORIAN
METHOD:PUBLISH
BEGIN:VEVENT
UID:69e9eebd641c6
DTSTAMP:20260423T100445Z
DTSTART:20221103T180000Z
DTEND:20221103T200000Z
LOCATION:Hofcafé Giebner Parkstraße 6
SUMMARY:Haushaltsplan 2023
DESCRIPTION:Auch dieses Jahr wieder lädt die SPD Monheim traditionell ihre
  Mitglieder und alle interessierten Bürgerinnen und Bürger ein\,  den akt
 uellen Haushaltsplan der Stadt Monheim für 2023 zu diskutieren. Geleitet w
 ird die Versammlung von Ortsvereinsvorsitzenden Lorenz Dombrowski. Vorgeste
 llt wird der Haushaltsplan der Stadt Monheim durch den Fraktionsvorsitzende
 n der SPD im Stadtrat\, [..]\nhttps://www.spd-monheim.de/events/haushaltspl
 an-2023/
URL:https://www.spd-monheim.de/events/haushaltsplan-2023/
END:VEVENT
END:VCALENDAR