BEGIN:VCALENDAR
VERSION:2.0
PRODID:-//eventon.com NONSGML v1.0//EN
CALSCALE:GREGORIAN
METHOD:PUBLISH
BEGIN:VEVENT
UID:69e9dac38c095
DTSTAMP:20260423T083931Z
DTSTART:20221031T173000Z
DTEND:20221031T200000Z
LOCATION:Kulisse der Aula am Berliner Ring Berliner Ring 7
SUMMARY:Europäische Friedens- und Sicherheitspolitik im Fokus
DESCRIPTION:Was sind realistische Ziele für eine europäische Friedens- un
 d Sicherheitspolitik und wie können diese praktisch erreicht werden? Mit e
 inem Vortrag von Professor Dr. Patrick Sensburg\,  Professor für öffen
 tliches Recht und Europarecht an der Hochschule für Polizei und öffentli
 che Verwaltung Nordrhein-Westfalen in Köln und Präsident des Verbandes
  der Reservisten der Deutschen Bundeswehr greift die Monheimer Europa-Unio
 n – in Kooperation[..]\nhttps://www.spd-monheim.de/events/europaeische-fr
 iedens-und-sicherheitspolitik-im-fokus/
URL:https://www.spd-monheim.de/events/europaeische-friedens-und-sicherheitspolitik-im-fokus/
END:VEVENT
END:VCALENDAR