BEGIN:VCALENDAR
VERSION:2.0
PRODID:-//eventon.com NONSGML v1.0//EN
CALSCALE:GREGORIAN
METHOD:PUBLISH
BEGIN:VEVENT
UID:69e9dac38dd8a
DTSTAMP:20260423T083931Z
DTSTART:20220709T100000Z
DTEND:20220709T215000Z
LOCATION:Wasserspielplatz im Rheinbogen Am Vorgelort
SUMMARY:Sommerfest
DESCRIPTION:Die SPD Monheim am Rhein feiert am 09.07.2022 ab 12:00 Uhr ein 
 Sommerfest im Monheimer Rheinbogen (ggü. vom Wasserspielplatz). Neben Popc
 orn\,  Hüpfburg\,  Torwandschießen\,  erwarten Euch leckere Snacks und Ge
 tränke.\nhttps://www.spd-monheim.de/events/sommerfest/
URL:https://www.spd-monheim.de/events/sommerfest/
END:VEVENT
END:VCALENDAR