BEGIN:VCALENDAR
VERSION:2.0
PRODID:-//eventon.com NONSGML v1.0//EN
CALSCALE:GREGORIAN
METHOD:PUBLISH
BEGIN:VEVENT
UID:69e88d7d32793
DTSTAMP:20260422T085733Z
DTSTART:20220702T120000Z
DTEND:20220702T150000Z
LOCATION:
SUMMARY:Radtour der SPD Baumberg
DESCRIPTION:In diesem Jahr führt die traditionelle Radtour der Baumberger 
 Sozialdemokraten zum Botanischen Garten in Düsseldorf. Ziel ist das 18 Met
 er hohe\,  halbkugelige Schaugewächshaus. Eine Getränkepause ist dort vor
 gesehen. Die Teilnehmer haben die Gelegenheit das Gewächshaus zu erkunden\
 ,  oder die Gartenprojekte zu besuchen. Die Radtour findet statt am 02.07.2
 022 und startet[..]\nhttps://www.spd-monheim.de/events/radtour-der-spd-baum
 berg/
URL:https://www.spd-monheim.de/events/radtour-der-spd-baumberg/
END:VEVENT
END:VCALENDAR