BEGIN:VCALENDAR
VERSION:2.0
PRODID:-//eventon.com NONSGML v1.0//EN
CALSCALE:GREGORIAN
METHOD:PUBLISH
BEGIN:VEVENT
UID:69e89b7056b9b
DTSTAMP:20260422T095704Z
DTSTART:20220612T080000Z
DTEND:20220612T160000Z
LOCATION:
SUMMARY:Stadtfest
DESCRIPTION:Das diesjährige Stadtfest steht unter dem Motto &#8222;Veni\, 
  vide\,  gaude!&#8220; und bedeutet frei übersetzt so viel wie: „Komme\,
   besuche\,  feiere!“. Genau das nimmt auch die SPD Monheim am Rhein zum 
 Anlass für einen großen Erlebnisstand mit Kinderspielen\,  Popcorn\,  Inf
 ormationen zum Thema &#8222;Wohnen in Monheim&#8220; und jeder Menge Spiel 
 und Spaß.[..]\nhttps://www.spd-monheim.de/events/stadtfest/
URL:https://www.spd-monheim.de/events/stadtfest/
END:VEVENT
END:VCALENDAR