BEGIN:VCALENDAR
VERSION:2.0
PRODID:-//eventon.com NONSGML v1.0//EN
CALSCALE:GREGORIAN
METHOD:PUBLISH
BEGIN:VEVENT
UID:69e9dc6b0c3e0
DTSTAMP:20260423T084635Z
DTSTART:20220617T160000Z
DTEND:20220617T190000Z
LOCATION:Volkshochschule Monheim Tempelhofer Str. 15
SUMMARY:Wohnpreise in Monheim
DESCRIPTION:Am Freitag\,  den 17. Juni 2022\,  findet um 19 Uhr die erste D
 iskussionsveranstaltung gemeinsam mit Experten über die Zukunftsfrage Wohn
 en im Saal der VHS statt. Sie steht unter dem Motto: Kann ich mir Wohnen no
 ch leisten? Gemeinsam mit dem Deutschen Mieterbund und der Interessenvertre
 tung der Eigentümergemeinschaft „Haus und Grund&#8220; diskutiert[..]\nh
 ttps://www.spd-monheim.de/events/wohnpreise-in-monheim/
URL:https://www.spd-monheim.de/events/wohnpreise-in-monheim/
END:VEVENT
END:VCALENDAR