BEGIN:VCALENDAR
VERSION:2.0
PRODID:-//eventon.com NONSGML v1.0//EN
CALSCALE:GREGORIAN
METHOD:PUBLISH
BEGIN:VEVENT
UID:69e9eed6ae561
DTSTAMP:20260423T100510Z
DTSTART:20220505T173000Z
DTEND:20220505T215000Z
LOCATION:Bürgerhaus Baumberg Humboldtstraße 8
SUMMARY:Jahreshauptversammlung SPD Baumberg
DESCRIPTION:(Visualisierung: Architektur- und Ingenieurbüro Konrath und We
 nnemar)\nhttps://www.spd-monheim.de/events/jahreshauptversammlung-spd-baumb
 erg/
URL:https://www.spd-monheim.de/events/jahreshauptversammlung-spd-baumberg/
END:VEVENT
END:VCALENDAR