BEGIN:VCALENDAR
VERSION:2.0
PRODID:-//eventon.com NONSGML v1.0//EN
CALSCALE:GREGORIAN
METHOD:PUBLISH
BEGIN:VEVENT
UID:69e888a33c485
DTSTAMP:20260422T083651Z
DTSTART:20220501T113000Z
DTEND:20220501T215000Z
LOCATION:Rathausvorplatz Rathausplatz 2
SUMMARY:Familienfest
DESCRIPTION:Die Monheimer SPD freut sich darauf\,  das Familienfest wieder 
 aufleben zu lassen\,  welches durch die Corona-Zwangspause zwei Jahre nicht
  stattfinden konnte. Die Feierlichkeit anlässlich des Tags der Arbeit\,  s
 ind seit über 20 Jahren fester Bestandteil im Stadtleben. Los geht es am 1
 . Mai um 13:30 Uhr auf dem Rathausvorplatz in Monheim. Dort gibt[..]\nht
 tps://www.spd-monheim.de/events/familienfest/
URL:https://www.spd-monheim.de/events/familienfest/
END:VEVENT
END:VCALENDAR