BEGIN:VCALENDAR
VERSION:2.0
PRODID:-//eventon.com NONSGML v1.0//EN
CALSCALE:GREGORIAN
METHOD:PUBLISH
BEGIN:VEVENT
UID:69e88a5a2c577
DTSTAMP:20260422T084410Z
DTSTART:20220408T181500Z
DTEND:20220408T215000Z
LOCATION:Bürgerhaus Baumberg Humboldtstraße 8
SUMMARY:Podiumsdiskussion: Beste Bildung für beste Chancen
DESCRIPTION:Am Freitag\,  den 08.04.2022 um 20:15 Uhr findet im Bürgerhaus
  Baumberg\,  Humboldtstraße 8 in 40789 Monheim eine Podiumsdiskussion zum 
 Thema „Beste Bildung für beste Chancen statt“. Gastgeber ist der Landt
 agskandidat der SPD im Wahlkreis 37 (Hilden\,  Langenfeld\,  Monheim) Marc 
 Nasemann. Als Gäste dürfen Sie sich auf den Schulpolitischen Sprecher der
 [..]\nhttps://www.spd-monheim.de/events/podiumsdiskussion-beste-bildung-fue
 r-beste-chancen/
URL:https://www.spd-monheim.de/events/podiumsdiskussion-beste-bildung-fuer-beste-chancen/
END:VEVENT
END:VCALENDAR