BEGIN:VCALENDAR
VERSION:2.0
PRODID:-//eventon.com NONSGML v1.0//EN
CALSCALE:GREGORIAN
METHOD:PUBLISH
BEGIN:VEVENT
UID:69e88afb14c1c
DTSTAMP:20260422T084651Z
DTSTART:20220211T180000Z
DTEND:20220211T200000Z
LOCATION:https://zoom.us/j/93531519672?pwd=anhVZnFkb2Vta0pVUUIrbnZ6a2pQdz09
SUMMARY:Neue Monheimer Mitte
DESCRIPTION:Die SPD in Monheim am Rhein lädt am 11.02.22 um 19 Uhr zu eine
 r offenen Diskussionsrunde über die Entwicklungen der neuen Monheimer Mitt
 e ein. Mit einem Richtfest ist die Halbzeit des Umbaus am Rathaus-Centers g
 efeiert worden. Der Umbau des Monheimer Tors steht noch bevor. Zeit für ei
 ne erste Bilanz der[..]\nhttps://www.spd-monheim.de/events/neue-monheimer-m
 itte/var/event_access
URL:https://www.spd-monheim.de/events/neue-monheimer-mitte/var/event_access
END:VEVENT
END:VCALENDAR